BEGIN:VCALENDAR
VERSION:2.0
PRODID:-//Miami Chapter - ECPv5.6.0//NONSGML v1.0//EN
CALSCALE:GREGORIAN
METHOD:PUBLISH
X-WR-CALNAME:Miami Chapter
X-ORIGINAL-URL:https://miami.surfrider.org
X-WR-CALDESC:Events for Miami Chapter
BEGIN:VTIMEZONE
TZID:America/New_York
BEGIN:DAYLIGHT
TZOFFSETFROM:-0500
TZOFFSETTO:-0400
TZNAME:EDT
DTSTART:20210314T070000
END:DAYLIGHT
BEGIN:STANDARD
TZOFFSETFROM:-0400
TZOFFSETTO:-0500
TZNAME:EST
DTSTART:20211107T060000
END:STANDARD
END:VTIMEZONE
BEGIN:VEVENT
DTSTART;TZID=America/New_York:20210327T080000
DTEND;TZID=America/New_York:20210327T110000
DTSTAMP:20210915T144626
CREATED:20210317T190405Z
LAST-MODIFIED:20210317T190405Z
UID:3498-1616832000-1616842800@miami.surfrider.org
SUMMARY:Community Clean-up with ARTECHOUSE and local artist Haiiileen
DESCRIPTION:Join us for our cleanup with ARTECHOUSE and local artist Haiiileen!\nStart your weekend by giving back to your community with a beach cleanup with ARTECHOUSE Miami and local artist Haiiileen\, whose work Agua Haiii is featured in Aqueous\, an immersive multimedia installation inspired by Pantone Color of the Year 2020 Classic Blue\, on view at ARTECHOUSE. \nThe cleanup kicks off ARTECHOUSE’s partnership with Surfrider. From April 1-14 ARTECHOUSE will donate 10% of proceeds from ticket sales to Surfrider Miami to help in their mission to protect our ocean\, waves and beaches. \nAfter the cleanup ARTECHOUSE invites all beach cleanup volunteers to experience Aqueous.\nCheck Eventbrite for further information and RVSP.\n———————————————————————-\nWe’ll provide gloves and buckets\, but bring your own if you prefer.\nWhat you’ll need:\n* Wear reef-safe sun protection and make sure to bring a reusable water bottle to stay hydrated.\n* It’ll be a socially distanced event and don’t forget to wear your mask :)!\n———————————————————————-
URL:https://miami.surfrider.org/event/community-clean-up-with-artechouse-and-local-artist-haiiileen/
LOCATION:5th Street Beach Miami Beach
END:VEVENT
END:VCALENDAR