BEGIN:VCALENDAR
VERSION:2.0
PRODID:-//Miami Chapter - ECPv5.6.0//NONSGML v1.0//EN
CALSCALE:GREGORIAN
METHOD:PUBLISH
X-WR-CALNAME:Miami Chapter
X-ORIGINAL-URL:https://miami.surfrider.org
X-WR-CALDESC:Events for Miami Chapter
BEGIN:VTIMEZONE
TZID:America/New_York
BEGIN:DAYLIGHT
TZOFFSETFROM:-0500
TZOFFSETTO:-0400
TZNAME:EDT
DTSTART:20200308T070000
END:DAYLIGHT
BEGIN:STANDARD
TZOFFSETFROM:-0400
TZOFFSETTO:-0500
TZNAME:EST
DTSTART:20201101T060000
END:STANDARD
END:VTIMEZONE
BEGIN:VEVENT
DTSTART;TZID=America/New_York:20201203T180000
DTEND;TZID=America/New_York:20201203T203000
DTSTAMP:20210920T061435
CREATED:20201202T155957Z
LAST-MODIFIED:20201202T155957Z
UID:3263-1607018400-1607027400@miami.surfrider.org
SUMMARY:SEA\, SAND AND LOVE
DESCRIPTION:  \nSea\, Sand\, And Love \nAn art installation by Marcello Cassano \n20% of the profits from each sale will be donated to The Surfrider Foundation Miami Chapter \nTHURSDAY\, DECEMBER 3RD\, 6 -8:30 PM \nPrivate Event \nLimited capacity to allow social distance\, face mask required \nAppointments available by request \nRSVP@naturae.art
URL:https://miami.surfrider.org/event/sea-sand-and-love/
LOCATION:7610 NE 4TH CT MIAMI\, FL 33138\, 7610 NE 4TH CT\, MIAMI\, FL\, 33138\, United States
END:VEVENT
END:VCALENDAR