BEGIN:VCALENDAR
VERSION:2.0
PRODID:-//Miami Chapter - ECPv5.5.0.1//NONSGML v1.0//EN
CALSCALE:GREGORIAN
METHOD:PUBLISH
X-WR-CALNAME:Miami Chapter
X-ORIGINAL-URL:https://miami.surfrider.org
X-WR-CALDESC:Events for Miami Chapter
BEGIN:VTIMEZONE
TZID:America/New_York
BEGIN:DAYLIGHT
TZOFFSETFROM:-0500
TZOFFSETTO:-0400
TZNAME:EDT
DTSTART:20190310T070000
END:DAYLIGHT
BEGIN:STANDARD
TZOFFSETFROM:-0400
TZOFFSETTO:-0500
TZNAME:EST
DTSTART:20191103T060000
END:STANDARD
END:VTIMEZONE
BEGIN:VEVENT
DTSTART;TZID=America/New_York:20191212T190000
DTEND;TZID=America/New_York:20191212T210000
DTSTAMP:20210502T031702
CREATED:20191119T200131Z
LAST-MODIFIED:20191203T152748Z
UID:3117-1576177200-1576184400@miami.surfrider.org
SUMMARY:Chapter Meeting
DESCRIPTION:Join us for our December Chapter Meeting! \nWe’ll be meeting at Circa 39 Miami Beach \nLocated at 3900 Collins Ave\, Miami Beach\, FL 33140 \nNot a member yet? Come anyway! Hear what we’re working on.
URL:https://miami.surfrider.org/event/chapter-meeting-3/
LOCATION:FL\, United States
END:VEVENT
END:VCALENDAR