BEGIN:VCALENDAR
VERSION:2.0
PRODID:-//Miami Chapter - ECPv5.5.0.1//NONSGML v1.0//EN
CALSCALE:GREGORIAN
METHOD:PUBLISH
X-WR-CALNAME:Miami Chapter
X-ORIGINAL-URL:https://miami.surfrider.org
X-WR-CALDESC:Events for Miami Chapter
BEGIN:VTIMEZONE
TZID:America/New_York
BEGIN:DAYLIGHT
TZOFFSETFROM:-0500
TZOFFSETTO:-0400
TZNAME:EDT
DTSTART:20190310T070000
END:DAYLIGHT
BEGIN:STANDARD
TZOFFSETFROM:-0400
TZOFFSETTO:-0500
TZNAME:EST
DTSTART:20191103T060000
END:STANDARD
END:VTIMEZONE
BEGIN:VEVENT
DTSTART;TZID=America/New_York:20191019T150000
DTEND;TZID=America/New_York:20191019T190000
DTSTAMP:20210502T110524
CREATED:20191009T193416Z
LAST-MODIFIED:20191009T193416Z
UID:2994-1571497200-1571511600@miami.surfrider.org
SUMMARY:Cocktail Clean-up Crawl
DESCRIPTION:1 Hotel South Beach + Debris Free Ocean’s Cocktail Clean-up Crawl\nSaturday\, October 19th\n1 Hotel South Beach\n2341 Collins Avenue\n3:00 pm-7:00pm\n**Event is taking place rain or shine ** \nThe world around us is beautiful\, and we want to keep it that way.\n-Barry Sternlicht\, 1 Hotels Founder \nJoin 1 Hotel South Beach as we team up with Debris Free Oceans\,\nSend It 4 The Sea and Surfrider to beautify the streets of South Beach. Along the way\, we’ll stop for Ilegal mezcal cocktails with our neighbors\, Sweet Liberty and finish with a dance party at Treehouse. \nSamba Sol will be giving away FREE tickets eco-friendly sandals at Treehouse for attendees who stick with us to the last stop! \nAt 3pm we will meet at 1 Hotel South Beach at Drift’s patio for check in and to enjoy our first cocktail before we head off to Sweet Liberty and then finish at Treehouse. \nTake a detour off the streets to our beach behind 1 Hotel South Beach to join Send It 4 The Sea as his team focuses on the shoreline. \n$20 per person – Includes 1 stainless steel reusable cup\, 1 Ilegal Mezcal cocktail at each location and a free pair of Samba Sol sandals. \n100% of all proceeds will be donated Debris Free Oceans\, Surfrider & Send It 4 The Sea \nSPONSORS: \n\n\nDebris Free Oceans\n\n\nSamba Sol\n\n\nIllegal Mezcal\n\n\nSweet Liberty\n\n\nTreehouse\n\n\nSend It 4 The Sea\n\nSurfrider\n\nTIME LINE OF EVENT: \n\n\n\n3:00 pm: 1st stop: 1 Hotel South Beach – Drift’s Patio\nRegistration & Sign Up | Redeem reusable cup and drink tokens for 3 cocktails\n1st Cocktail at Drift. Gloves and bags provided.\n\n\n4:30 pm- 5:30 pm – 2nd stop: Sweet Liberty\nRedeem 2nd complimentary Ilegal Mezcal cocktail + enjoy additional Happy Hour discounts\n\n\n6:30 pm-7:00 pm: 3rd stop: Treehouse\nRedeem 3rd complimentary Ilegal Mezcal cocktail\, DJ to let loose and dance to\, giveaway of free\nSamba Sol sandals
URL:https://miami.surfrider.org/event/cocktail-clean-up-crawl/
LOCATION:1 Hotel South Beach\, 2341 Collins Avenue\, Miami Beach\, FL\, 33139\, United States
END:VEVENT
END:VCALENDAR