BEGIN:VCALENDAR
VERSION:2.0
PRODID:-//Miami Chapter - ECPv5.6.0//NONSGML v1.0//EN
CALSCALE:GREGORIAN
METHOD:PUBLISH
X-WR-CALNAME:Miami Chapter
X-ORIGINAL-URL:https://miami.surfrider.org
X-WR-CALDESC:Events for Miami Chapter
BEGIN:VTIMEZONE
TZID:America/New_York
BEGIN:DAYLIGHT
TZOFFSETFROM:-0500
TZOFFSETTO:-0400
TZNAME:EDT
DTSTART:20190310T070000
END:DAYLIGHT
BEGIN:STANDARD
TZOFFSETFROM:-0400
TZOFFSETTO:-0500
TZNAME:EST
DTSTART:20191103T060000
END:STANDARD
END:VTIMEZONE
BEGIN:VEVENT
DTSTART;TZID=America/New_York:20190802T180000
DTEND;TZID=America/New_York:20190802T210000
DTSTAMP:20210928T103114
CREATED:20190729T175922Z
LAST-MODIFIED:20190729T180035Z
UID:2947-1564768800-1564779600@miami.surfrider.org
SUMMARY:F1rst Fridays Movie Screening at Stanton Marriot South Beach
DESCRIPTION:Join\, \nF1rst Surf Shop & Surfrider Foundation Miami Chapter \nFor F1rst Fridays\nA Monthly Movie Screening & Happy Hour \n6pm-Gathering \n7pm-Movie \nThis Month’s Feature: Nathan Fletcher’s “Heavy Water” \n\nPlastic Free Event\, BYOC (Bring your own cup)\nSurfrider SS cups will beavailable for purchase\nFood & Beverage discounts\n$15 Valet with validation
URL:https://miami.surfrider.org/event/f1rst-fridays-movie-screening/
LOCATION:Stanton Marriot South Beach\, 161 Ocean Drive\, Miami Beach\, FL\, 33139\, United States
END:VEVENT
END:VCALENDAR