BEGIN:VCALENDAR
VERSION:2.0
PRODID:-//Miami Chapter - ECPv5.6.0//NONSGML v1.0//EN
CALSCALE:GREGORIAN
METHOD:PUBLISH
X-WR-CALNAME:Miami Chapter
X-ORIGINAL-URL:https://miami.surfrider.org
X-WR-CALDESC:Events for Miami Chapter
BEGIN:VTIMEZONE
TZID:America/New_York
BEGIN:DAYLIGHT
TZOFFSETFROM:-0500
TZOFFSETTO:-0400
TZNAME:EDT
DTSTART:20180311T070000
END:DAYLIGHT
BEGIN:STANDARD
TZOFFSETFROM:-0400
TZOFFSETTO:-0500
TZNAME:EST
DTSTART:20181104T060000
END:STANDARD
END:VTIMEZONE
BEGIN:VEVENT
DTSTART;TZID=America/New_York:20181202T190000
DTEND;TZID=America/New_York:20181202T190000
DTSTAMP:20211002T202658
CREATED:20181112T195754Z
LAST-MODIFIED:20181112T195754Z
UID:2728-1543777200-1543777200@miami.surfrider.org
SUMMARY:Ryland Arnoldi reception benefiting Surfrider
DESCRIPTION:
URL:https://miami.surfrider.org/event/ryland-arnoldi-reception-benefiting-surfrider/
END:VEVENT
END:VCALENDAR