BEGIN:VCALENDAR
VERSION:2.0
PRODID:-//Miami Chapter - ECPv5.6.0//NONSGML v1.0//EN
CALSCALE:GREGORIAN
METHOD:PUBLISH
X-WR-CALNAME:Miami Chapter
X-ORIGINAL-URL:https://miami.surfrider.org
X-WR-CALDESC:Events for Miami Chapter
BEGIN:VTIMEZONE
TZID:America/New_York
BEGIN:DAYLIGHT
TZOFFSETFROM:-0500
TZOFFSETTO:-0400
TZNAME:EDT
DTSTART:20180311T070000
END:DAYLIGHT
BEGIN:STANDARD
TZOFFSETFROM:-0400
TZOFFSETTO:-0500
TZNAME:EST
DTSTART:20181104T060000
END:STANDARD
END:VTIMEZONE
BEGIN:VEVENT
DTSTART;TZID=America/New_York:20180821T190000
DTEND;TZID=America/New_York:20180821T220000
DTSTAMP:20210509T181930
CREATED:20180807T200537Z
LAST-MODIFIED:20180807T200537Z
UID:2538-1534878000-1534888800@miami.surfrider.org
SUMMARY:Never Town: Surfrider Movie Night and Community Meeting
DESCRIPTION:Come celebrate Surfrider Miami’s End of Summer Party & to enjoy our favorite craft brews\, share summer beach & surf stories\, screen an amazing film by Patagonia and get current & connected with this powerful grassroots group’s latest initiatives.  Mahalo to our craft brew partner Concrete Beach Brewery who will Host us at their chill Social Hall in Wynwood.\nWe will have some special prizes to raffle off and Surfrider swag for sale… and a BIG REVEAL to announce.\n\n– $10 Cover if you BYOC (bring your reusable Surfrider or Concrete Beach steel pint cup)\n– $18 if you need a cup\n– Entry gets you 1 free BEER + Raffle ticket + HH prices all night\n– Current Surfrider members a/o Aug 17 get an extra free beer. Not a member? Join here by Aug 17:  https://www.surfrider.org/support-surfrider?source=CH37\nCome dressed for the beach and ready to have fun!\n\nSurfrider is a non-profit grassroots organization dedicated to the protection and enjoyment of our world’s oceans\, waves and beaches. Surfrider was founded in Malibu\, California in 1984 by a handful of visionary surfers protecting their beach. The Miami chapter was launched by Wyatt Brown and TC in 1977 to begin pressing the City of Miami Beach to enforce existing litter laws and reverse the trashing of our local beaches. Now Surfrider Foundation maintains over 250\,000 supporters\, activist & members in over 100 chapters world wide.
URL:https://miami.surfrider.org/event/never-town-surfrider-movie-night-and-community-meeting/
LOCATION:Concrete Beach Brewery\, 325 NW 24th St\, Miami\, florida\, 33127
END:VEVENT
END:VCALENDAR