BEGIN:VCALENDAR
VERSION:2.0
PRODID:-//Miami Chapter - ECPv5.6.0//NONSGML v1.0//EN
CALSCALE:GREGORIAN
METHOD:PUBLISH
X-WR-CALNAME:Miami Chapter
X-ORIGINAL-URL:https://miami.surfrider.org
X-WR-CALDESC:Events for Miami Chapter
BEGIN:VTIMEZONE
TZID:America/New_York
BEGIN:DAYLIGHT
TZOFFSETFROM:-0500
TZOFFSETTO:-0400
TZNAME:EDT
DTSTART:20190310T070000
END:DAYLIGHT
BEGIN:STANDARD
TZOFFSETFROM:-0400
TZOFFSETTO:-0500
TZNAME:EST
DTSTART:20191103T060000
END:STANDARD
END:VTIMEZONE
BEGIN:VEVENT
DTSTART;TZID=America/New_York:20190407T150000
DTEND;TZID=America/New_York:20190407T190000
DTSTAMP:20210921T123526
CREATED:20190401T150624Z
LAST-MODIFIED:20190401T150738Z
UID:2823-1554649200-1554663600@miami.surfrider.org
SUMMARY:Grand Finale Pub Crawl Pick Up: Earth Month Edition
DESCRIPTION:The Wynwood Yard’s grand finale season ushers in the grandest of all Pub Crawl Pick Up events we have ever hosted! This April 7th\, the very last Pub Crawl Pick Up at our Wynwood location followed by The Yard’s International Beer Day Festival (International Beer Day Festival entry free for Pub Crawl Pick Up holders!!) will bring together community partners\, organizations\, local breweries and restaurants that have made past community clean ups fun\, impactful and delicious. \nJoin us\, longtime Pub Crawl Pick Up partner\, Debris Free Oceans\, plus our featured partner for April: Rescue a Reef\, along with an impressive cohort of community organizations like Miami Waterkeeper\, AIM\, The Full Edit and Surfrider Foundation from 3 p.m. to 5 p.m. on a mission to beautify Wynwood while also making an impact on Biscayne Bay and Miami’s beaches. \nMeet at 2:30 p.m. at The Wynwood Yard to sign in and enjoy an initial brew or kombucha\, meet fellow cleaner uppers\, and learn about DFO and featured participating non-profit. You’ll travel through the neighborhood\, cleaning up as you go and making a pit stop for a bite at Charly’s Vegan Tacos on our way back to The Wynwood Yard\, where we’ll join the International Beer Day Festival (your $20 ticket includes vouchers for beer samples at the festival). \nAlso\, $5 of your $20 ticket will benefit Debris Free Oceans and another $5 will benefit a participating non-profit of your choice. \nSPONSORING ORGANIZATIONS\, BREWERIES & RESTAURANTS (check back often for additions to our vendor roster!) \n** Charly’s Vegan Tacos \n** The Tank Brewing \n** South Beach Brewery \n** Concrete Beach Brewery \n** Box Eldr \n** Veza Sur \n** Bousa Beer \n** Wynwood Brewing Co. \n** MIA Brewing \n** Saltwater Brewery \n** Biscayne Bay Brewing \n** Gravity Brewing \n** US Supply House will supply eco-friendly disposables and bags \nOUR IMPACT: \nInland trash eventually makes its way from city centers to our waterways\, harming marine life and water quality. The Yard’s Pub Crawl Pick Up community cleaning events have proudly: \n** Cleaned up over 3000 lbs of garbage \n** Engaged 350 people in our community to get involved in this important environmental effort \n** Raised over $3000 to donate to 12 local organizations involved in environmental and social awareness + impact \n** Deepened our community’s sense of connection and influence\, and opened the door for long lasting friendships and networking \nPLEASE NOTE: In honor of Earth Month\, single-use plastic cups are banned from the grand finale Pub Crawl Pick Up and International Beer Day Festival events. Please bring your own reusable cup or purchase a Klean Kanteen cup at The Wynwood Yard for $10.
URL:https://miami.surfrider.org/event/grand-finale-pub-crawl-pick-up-earth-month-edition/
LOCATION:The Wynwood Yard\, 56 Northwest 29th Street\, Miami\, FL\, 33127\, United States
END:VEVENT
END:VCALENDAR