BEGIN:VCALENDAR
VERSION:2.0
PRODID:-//Miami Chapter - ECPv5.1.5//NONSGML v1.0//EN
CALSCALE:GREGORIAN
METHOD:PUBLISH
X-WR-CALNAME:Miami Chapter
X-ORIGINAL-URL:https://miami.surfrider.org
X-WR-CALDESC:Events for Miami Chapter
BEGIN:VTIMEZONE
TZID:America/New_York
BEGIN:DAYLIGHT
TZOFFSETFROM:-0500
TZOFFSETTO:-0400
TZNAME:EDT
DTSTART:20170312T070000
END:DAYLIGHT
BEGIN:STANDARD
TZOFFSETFROM:-0400
TZOFFSETTO:-0500
TZNAME:EST
DTSTART:20171105T060000
END:STANDARD
END:VTIMEZONE
BEGIN:VEVENT
DTSTART;TZID=America/New_York:20171212T183000
DTEND;TZID=America/New_York:20171212T230000
DTSTAMP:20210426T134753
CREATED:20171202T155039Z
LAST-MODIFIED:20171202T155252Z
UID:2161-1513103400-1513119600@miami.surfrider.org
SUMMARY:End of Year Community Meeting
DESCRIPTION:\n\n\nJoin us for our end of year Holiday social gathering! \nWe’ll have drinks\, talk story and share some awesome wave footage. \n  \n\n\n\n
URL:https://miami.surfrider.org/event/end-of-year-community-meeting/
LOCATION:Circa 39 Hotel\, 3900 Collins Ave\, Miami Beach\, FL\, 33140\, United States
CATEGORIES:Community Meeting
END:VEVENT
END:VCALENDAR