BEGIN:VCALENDAR
VERSION:2.0
PRODID:-//Miami Chapter - ECPv5.6.0//NONSGML v1.0//EN
CALSCALE:GREGORIAN
METHOD:PUBLISH
X-WR-CALNAME:Miami Chapter
X-ORIGINAL-URL:https://miami.surfrider.org
X-WR-CALDESC:Events for Miami Chapter
BEGIN:VTIMEZONE
TZID:America/New_York
BEGIN:DAYLIGHT
TZOFFSETFROM:-0500
TZOFFSETTO:-0400
TZNAME:EDT
DTSTART:20190310T070000
END:DAYLIGHT
BEGIN:STANDARD
TZOFFSETFROM:-0400
TZOFFSETTO:-0500
TZNAME:EST
DTSTART:20191103T060000
END:STANDARD
END:VTIMEZONE
BEGIN:VEVENT
DTSTART;TZID=America/New_York:20190421T080000
DTEND;TZID=America/New_York:20190421T170000
DTSTAMP:20210921T123557
CREATED:20190314T201159Z
LAST-MODIFIED:20190409T134349Z
UID:2811-1555833600-1555866000@miami.surfrider.org
SUMMARY:Earth Day with Surfrider
DESCRIPTION:
URL:https://miami.surfrider.org/event/earth-day-with-surfrider/
LOCATION:The Edition Hotel\, 2901 Collins Ave\, Miami Beach\, FL\, 33139\, United States
END:VEVENT
END:VCALENDAR