BEGIN:VCALENDAR
VERSION:2.0
PRODID:-//Miami Chapter - ECPv5.6.0//NONSGML v1.0//EN
CALSCALE:GREGORIAN
METHOD:PUBLISH
X-WR-CALNAME:Miami Chapter
X-ORIGINAL-URL:https://miami.surfrider.org
X-WR-CALDESC:Events for Miami Chapter
BEGIN:VTIMEZONE
TZID:America/New_York
BEGIN:DAYLIGHT
TZOFFSETFROM:-0500
TZOFFSETTO:-0400
TZNAME:EDT
DTSTART:20200308T070000
END:DAYLIGHT
BEGIN:STANDARD
TZOFFSETFROM:-0400
TZOFFSETTO:-0500
TZNAME:EST
DTSTART:20201101T060000
END:STANDARD
END:VTIMEZONE
BEGIN:VEVENT
DTSTART;TZID=America/New_York:20200304T190000
DTEND;TZID=America/New_York:20200304T210000
DTSTAMP:20210915T144436
CREATED:20200302T142739Z
LAST-MODIFIED:20200302T142739Z
UID:3189-1583348400-1583355600@miami.surfrider.org
SUMMARY:Chapter Meeting
DESCRIPTION:Join us for our March Chapter Meeting! \nWe’ll be meeting at Circa 39 Miami Beach \nLocated at 3900 Collins Ave\, Miami Beach\, FL 33140 \nNot a member yet? Come anyway! Hear what we’re working on.
URL:https://miami.surfrider.org/event/chapter-meeting-6/
LOCATION:Circa 39 Hotel\, 3900 Collins Ave\, Miami Beach\, FL\, 33140\, United States
END:VEVENT
END:VCALENDAR