BEGIN:VCALENDAR
VERSION:2.0
PRODID:-//Miami Chapter - ECPv5.6.0//NONSGML v1.0//EN
CALSCALE:GREGORIAN
METHOD:PUBLISH
X-WR-CALNAME:Miami Chapter
X-ORIGINAL-URL:https://miami.surfrider.org
X-WR-CALDESC:Events for Miami Chapter
BEGIN:VTIMEZONE
TZID:America/New_York
BEGIN:DAYLIGHT
TZOFFSETFROM:-0500
TZOFFSETTO:-0400
TZNAME:EDT
DTSTART:20200308T070000
END:DAYLIGHT
BEGIN:STANDARD
TZOFFSETFROM:-0400
TZOFFSETTO:-0500
TZNAME:EST
DTSTART:20201101T060000
END:STANDARD
END:VTIMEZONE
BEGIN:VEVENT
DTSTART;TZID=America/New_York:20200211T190000
DTEND;TZID=America/New_York:20200211T210000
DTSTAMP:20210915T144403
CREATED:20200130T211437Z
LAST-MODIFIED:20200131T194535Z
UID:3172-1581447600-1581454800@miami.surfrider.org
SUMMARY:Chapter Meeting
DESCRIPTION:Join us for our February Chapter Meeting! \nWe’ll be meeting at CIC Miami \nLocated at 1951 NW 7th Ave #600\, Miami\, FL 33136 \nNot a member yet? Come anyway! Hear what we’re working on.
URL:https://miami.surfrider.org/event/chapter-meeting-5/
LOCATION:CIC\, 1951 NW 7th Ave #600\, Miami\, FL\, 33136\, United States
END:VEVENT
END:VCALENDAR