BEGIN:VCALENDAR
VERSION:2.0
PRODID:-//Miami Chapter - ECPv5.1.5//NONSGML v1.0//EN
CALSCALE:GREGORIAN
METHOD:PUBLISH
X-WR-CALNAME:Miami Chapter
X-ORIGINAL-URL:https://miami.surfrider.org
X-WR-CALDESC:Events for Miami Chapter
BEGIN:VTIMEZONE
TZID:America/New_York
BEGIN:DAYLIGHT
TZOFFSETFROM:-0500
TZOFFSETTO:-0400
TZNAME:EDT
DTSTART:20200308T070000
END:DAYLIGHT
BEGIN:STANDARD
TZOFFSETFROM:-0400
TZOFFSETTO:-0500
TZNAME:EST
DTSTART:20201101T060000
END:STANDARD
END:VTIMEZONE
BEGIN:VEVENT
DTSTART;TZID=America/New_York:20200118T090000
DTEND;TZID=America/New_York:20200118T120000
DTSTAMP:20210426T134634
CREATED:20200115T170657Z
LAST-MODIFIED:20200115T170657Z
UID:3158-1579338000-1579348800@miami.surfrider.org
SUMMARY:Butts Off The Beach: Ashcan Data Collection
DESCRIPTION:\n\n\n\n\n\n\n\nConceptualized in 2014\, and brought to life in 2018 thanks to a $10\,000 grant from the City of Miami Beach\, the program features branded canisters strategically placed throughout Miami Beaches’ Entertainment District\, following a one year survey to assess which locations were in most need of butt receptacles. \n\n\n\n\n\n\n\n\n\n\n\n\n\n\n\nAt the end of each month the canisters are emptied\, the butts collected\, counted and saved so that they can ultimately be turned into community park benches by Terracycle. \n\n\n\n\n\n\n\n\n\n\n\n\n\n\n\nWant to help us collect and count butts? We offer community service hours and need your help! Contact Volunteercoordinator@Miami.Surfrider.org to get involved today. \n\n\n\n\n\n\n\n\n
URL:https://miami.surfrider.org/event/butts-off-the-beach-ashcan-data-collection-2/
LOCATION:Ocean Dr & 5th St\, Ocean Dr & 5th St\, Miami Beach\, FL\, 33139
END:VEVENT
END:VCALENDAR