BEGIN:VCALENDAR
VERSION:2.0
PRODID:-//Miami Chapter - ECPv5.6.0//NONSGML v1.0//EN
CALSCALE:GREGORIAN
METHOD:PUBLISH
X-WR-CALNAME:Miami Chapter
X-ORIGINAL-URL:https://miami.surfrider.org
X-WR-CALDESC:Events for Miami Chapter
BEGIN:VTIMEZONE
TZID:America/New_York
BEGIN:DAYLIGHT
TZOFFSETFROM:-0500
TZOFFSETTO:-0400
TZNAME:EDT
DTSTART:20200308T070000
END:DAYLIGHT
BEGIN:STANDARD
TZOFFSETFROM:-0400
TZOFFSETTO:-0500
TZNAME:EST
DTSTART:20201101T060000
END:STANDARD
END:VTIMEZONE
BEGIN:VEVENT
DTSTART;TZID=America/New_York:20200314T103000
DTEND;TZID=America/New_York:20200314T123000
DTSTAMP:20210915T144501
CREATED:20200108T223731Z
LAST-MODIFIED:20200108T223731Z
UID:3150-1584181800-1584189000@miami.surfrider.org
SUMMARY:Booze + Brunch + Beach Cleanup
DESCRIPTION:Join STAY FIT 305 and Miami Cocktail Co. at The Confidante on January 12\, February 16\, and March 14 for Booze + Brunch + Beach Cleanup.\n\n\n\n\n\n\nAbout this Event\n\n\nOur city is a beautiful place. And it’s everyone’s responsibility to ensure it lasts for generations. That’s why we have partnered with our friends at Miami Cocktail Co. for a little local TLC. \nJoin the STAY FIT 305 community and Miami Cocktail Co. at The Confidante on January 12th\, February 16th\, and March 14th for Booze + Brunch + Beach Cleanup. \nWe’ll kick off each morning with our friends from Surfrider – a grassroots non-profit environmental organization that works to protect and preserve the world’s oceans – to clean up the South Beach sand. \nAfterward\, we’ll kick back and sip on some refreshing Miami Cocktail Co. beverages\, grab brunch at The Confidante and enjoy the Atlantic waves from a sunny beach chair. \nHere’s what you get for attending Booze + Brunch + Beach Cleanup: \n\nComplimentary Drink from Miami Cocktail Co.\n$24 Miami Cocktail Co. 6-Can Bucket Special\n15% Brunch Discount at Bird & Bone (11:00am – 3:00pm)\n$10 Beach Chairs at The Confidante\n\nWe invite everyone in the STAY FIT 305 community to join us help make our community a healthier and more beautiful place to live. A good cause with a fun twist! \nIf you’ve never been to a STAY FIT 305 event before\, then we welcome you to join our growing community of fitness enthusiasts of all levels. If you have been to a STAY FIT 305 event before\, then make sure to bring a friend and introduce them to our amazing community that you’ve helped build! \nThere is limited space\, so make sure to get your tickets ASAP! Here are the details: \nWhen: \n\nSunday\, January 12th – RSVP Here\nSunday\, February 16th\nSaturday\, March 14th – RSVP Here\n\nSchedule: \n\nCheck-In: 10:30am\nBeach Cleanup Starts: 11:00am\n\nWhere: 1930’s House at The Confidante – 4041 Collins Ave\, Miami Beach\, FL 33140 \nCost: Free \nParking: $15 Valet\, Street\, or Rideshare \nWhat to Bring: Beach Wear and a Friend
URL:https://miami.surfrider.org/event/booze-brunch-beach-cleanup-2/
LOCATION:The Confidante Miami Beach\, 4041 Collins Avenue\, Miami Beach\, Florida\, 33140
END:VEVENT
END:VCALENDAR